BEGIN:VCALENDAR
VERSION:2.0
PRODID:-//Squarespace Inc/Squarespace 6//v6//EN
BEGIN:VEVENT
UID:5bd38dcfec212dc36cde10c8@squarespace.com
DTSTAMP:20181026T220214Z
DTSTART:20190211T023000Z
DTEND:20190410T220000Z
SUMMARY:Term One 2019
GEO:-36.585826;174.694642
LOCATION:Creative Dance\, 368 Hibiscus Coast Highway\, Orewa\, Auckland\, 0
 931\, New Zealand
END:VEVENT
END:VCALENDAR
