BEGIN:VCALENDAR
VERSION:2.0
PRODID:-//Squarespace Inc/Squarespace 6//v6//EN
BEGIN:VEVENT
UID:5bd38bb7e5e5f028f0403b6a@squarespace.com
DTSTAMP:20181026T220401Z
DTSTART:20181125T020000Z
DTEND:20181201T083000Z
SUMMARY:Get up and Groove
GEO:-36.592032;174.692839
LOCATION:Centrestage Theatre\, 60 Centreway Road\, Orewa\, Auckland\, 0931\
 , New Zealand
END:VEVENT
END:VCALENDAR
